BEGIN:VCALENDAR
VERSION:2.0
PRODID:-//wp-events-plugin.com//7.2.3.1//EN
TZID:Europe/Zurich
X-WR-TIMEZONE:Europe/Zurich
BEGIN:VEVENT
UID:10@jussymodeleclub.ch
DTSTART;TZID=Europe/Zurich;VALUE=DATE:20240907
DTEND;TZID=Europe/Zurich;VALUE=DATE:20240909
DTSTAMP:20240225T175128Z
URL:https://jussymodeleclub.ch/evenements/championnat-suisse-f4c-a-gloveli
 er/
SUMMARY:Championnat Suisse F4C à Glovelier
DESCRIPTION:Infos : Les Ailes du Lémont 2855 Glovelier
CATEGORIES:Extérieurs
END:VEVENT
BEGIN:VTIMEZONE
TZID:Europe/Zurich
X-LIC-LOCATION:Europe/Zurich
BEGIN:DAYLIGHT
DTSTART:20240331T030000
TZOFFSETFROM:+0100
TZOFFSETTO:+0200
TZNAME:CEST
END:DAYLIGHT
END:VTIMEZONE
END:VCALENDAR