BEGIN:VCALENDAR
VERSION:2.0
PRODID:-//wp-events-plugin.com//7.2.3.1//EN
TZID:Europe/Zurich
X-WR-TIMEZONE:Europe/Zurich
BEGIN:VEVENT
UID:15@jussymodeleclub.ch
DTSTART;TZID=Europe/Zurich;VALUE=DATE:20240801
DTEND;TZID=Europe/Zurich;VALUE=DATE:20240802
DTSTAMP:20240303T182120Z
URL:https://jussymodeleclub.ch/evenements/fete-nationale-suisse/
SUMMARY:Fête nationale Suisse
DESCRIPTION:
ATTACH;FMTTYPE=image/jpeg:https://jussymodeleclub.ch/wp-content/uploads/20
 24/03/01082016-scaled.jpg
CATEGORIES:JMC
END:VEVENT
BEGIN:VTIMEZONE
TZID:Europe/Zurich
X-LIC-LOCATION:Europe/Zurich
BEGIN:DAYLIGHT
DTSTART:20240331T030000
TZOFFSETFROM:+0100
TZOFFSETTO:+0200
TZNAME:CEST
END:DAYLIGHT
END:VTIMEZONE
END:VCALENDAR